BEGIN:VCALENDAR
VERSION:2.0
PRODID:-//Golfe Saint-Tropez//Events//FR
CALSCALE:GREGORIAN
METHOD:PUBLISH
BEGIN:VEVENT
UID:69eb78afbe1c3@golfe-saint-tropez.com
DTSTAMP:20260424T140535Z
DTSTART:20260507T080000
DTEND:20260507T130000
SUMMARY:Marché du Jeudi Sainte-Maxime – 7 mai 2026
DESCRIPTION:Le marché traditionnel de Sainte-Maxime a lieu toute l’année\, chaque jeudi matin\, sur la Place du Marché et dans les […]\n\nPlus d'infos : https://golfe-saint-tropez.com/evenement/sainte-maxime/marche-du-jeudi-sainte-maxime-2026-05-07/
LOCATION:Place du Marché sainte-maxime
STATUS:CONFIRMED
SEQUENCE:0
END:VEVENT
END:VCALENDAR
