BEGIN:VCALENDAR
VERSION:2.0
PRODID:-//Golfe Saint-Tropez//Events//FR
CALSCALE:GREGORIAN
METHOD:PUBLISH
BEGIN:VEVENT
UID:69eb6474a15aa@golfe-saint-tropez.com
DTSTAMP:20260424T123916Z
DTSTART:20260506T080000
DTEND:20260506T180000
SUMMARY:Mercredi Brocante Sainte-Maxime – 6 mai 2026
DESCRIPTION:Chaque mercredi toute l’année\, la brocante de Sainte-Maxime rassemble des exposants professionnels sur la Promenade A. Simon-Lorière. De 8h à […]\n\nPlus d'infos : https://golfe-saint-tropez.com/evenement/sainte-maxime/mercredi-brocante-sainte-maxime-2026-05-06/
LOCATION:Promenade A. Simon-Lorière\, Sainte-Maxime.
STATUS:CONFIRMED
SEQUENCE:0
END:VEVENT
END:VCALENDAR
