BEGIN:VCALENDAR
VERSION:2.0
PRODID:-//Golfe Saint-Tropez//Events//FR
CALSCALE:GREGORIAN
METHOD:PUBLISH
BEGIN:VEVENT
UID:69e7cdf0c3705@golfe-saint-tropez.com
DTSTAMP:20260421T192016Z
DTSTART:20260427T000000
DTEND:20260503T000000
SUMMARY:Ocean Fifty
DESCRIPTION:Plongez au cœur de l’action maritime avec l’Ocean Fifty\, un événement nautique incontournable qui fera vibrer le Golfe de Saint-Tropez […]\n\nPlus d'infos : https://golfe-saint-tropez.com/evenement/sainte-maxime/ocean-fifty/
LOCATION:Promenade A. Simon-Lorière\, 83120 Sainte-Maxime
STATUS:CONFIRMED
SEQUENCE:0
END:VEVENT
END:VCALENDAR
