BEGIN:VCALENDAR
VERSION:2.0
PRODID:-//Golfe Saint-Tropez//Events//FR
CALSCALE:GREGORIAN
METHOD:PUBLISH
BEGIN:VEVENT
UID:69e5df9347bc0@golfe-saint-tropez.com
DTSTAMP:20260420T081059Z
DTSTART:20260425T000000
DTEND:20260425T000000
SUMMARY:Parenthèse Art & Dégustation au vignoble
DESCRIPTION:Offrez-vous une parenthèse créative et gourmande au cœur des vignobles du Golfe de Saint-Tropez ! Le samedi 25 avril 2026\, […]\n\nPlus d'infos : https://golfe-saint-tropez.com/evenement/sainte-maxime/parenthese-art-degustation-au-vignoble/
LOCATION:71 chemin des Virgiles\, 83120 Sainte-Maxime
STATUS:CONFIRMED
SEQUENCE:0
END:VEVENT
END:VCALENDAR
