BEGIN:VCALENDAR
VERSION:2.0
PRODID:-//Golfe Saint-Tropez//Events//FR
CALSCALE:GREGORIAN
METHOD:PUBLISH
BEGIN:VEVENT
UID:69e4ca63683b3@golfe-saint-tropez.com
DTSTAMP:20260419T122819Z
DTSTART:20260430T000000
DTEND:20260430T000000
SUMMARY:Rencontre et dédicace – Jean Bastide
DESCRIPTION:Plongez dans l’univers magique de la bande dessinée avec une rencontre exceptionnelle au cœur du Golfe de Saint-Tropez ! Le […]\n\nPlus d'infos : https://golfe-saint-tropez.com/evenement/sainte-maxime/rencontre-et-dedicace-jean-bastide/
LOCATION:Médiathèque Municipale Jehanne Arnaud\, 107 route du Plan de la Tour\, Carré Léon Gaumont\, 83120 Sainte-Maxime
STATUS:CONFIRMED
SEQUENCE:0
END:VEVENT
END:VCALENDAR
