BEGIN:VCALENDAR
VERSION:2.0
PRODID:-//Golfe Saint-Tropez//Events//FR
CALSCALE:GREGORIAN
METHOD:PUBLISH
BEGIN:VEVENT
UID:69e7ce61a6618@golfe-saint-tropez.com
DTSTAMP:20260421T192209Z
DTSTART:20260112T000000
DTEND:20260603T000000
SUMMARY:Rencontres littéraires : le bar à livre
DESCRIPTION:Plongez dans l’univers des mots et des couleurs avec les Rencontres littéraires : le bar à livre\, un événement culturel […]\n\nPlus d'infos : https://golfe-saint-tropez.com/evenement/sainte-maxime/rencontres-litteraires-le-bar-a-livre/
LOCATION:Médiathèque Jehanne Arnaud – Carré Léon Gaumont\, 107 route du Plan de la Tour\, 83120 Sainte-Maxime
STATUS:CONFIRMED
SEQUENCE:0
END:VEVENT
END:VCALENDAR
