BEGIN:VCALENDAR
VERSION:2.0
PRODID:-//Golfe Saint-Tropez//Events//FR
CALSCALE:GREGORIAN
METHOD:PUBLISH
BEGIN:VEVENT
UID:69e56437a48a2@golfe-saint-tropez.com
DTSTAMP:20260419T232439Z
DTSTART:20260926T000000
DTEND:20260927T000000
SUMMARY:Sainte-Maxime Rêves Auto
DESCRIPTION:Plongez dans l’univers fascinant de l’automobile avec Sainte-Maxime Rêves Auto\, un événement incontournable du Golfe de Saint-Tropez ! Les 26 […]\n\nPlus d'infos : https://golfe-saint-tropez.com/evenement/sainte-maxime/sainte-maxime-reves-auto/
LOCATION:Promenade A. Simon-Lorière\, Avenue Charles de Gaulle\, Avenue Jean Jaurès\, Chapiteau du Théâtre de la Mer\, Boulodrome et parking Prince Bertil\, Place Mermoz\, 83120 Sainte-Maxime
STATUS:CONFIRMED
SEQUENCE:0
END:VEVENT
END:VCALENDAR
