BEGIN:VCALENDAR
VERSION:2.0
PRODID:-//Golfe Saint-Tropez//Events//FR
CALSCALE:GREGORIAN
METHOD:PUBLISH
BEGIN:VEVENT
UID:69e523b924f61@golfe-saint-tropez.com
DTSTAMP:20260419T184929Z
DTSTART:20260605T000000
DTEND:20260607T000000
SUMMARY:Salon Univers Vintage
DESCRIPTION:Plongez dans l’univers rétro du Salon Univers Vintage\, un événement incontournable du Golfe de Saint-Tropez qui transforme la Promenade Simon-Lorière […]\n\nPlus d'infos : https://golfe-saint-tropez.com/evenement/sainte-maxime/salon-univers-vintage/
LOCATION:Promenade A. Simon Lorière\, 83120 Sainte-Maxime
STATUS:CONFIRMED
SEQUENCE:0
END:VEVENT
END:VCALENDAR
