BEGIN:VCALENDAR
VERSION:2.0
PRODID:-//Golfe Saint-Tropez//Events//FR
CALSCALE:GREGORIAN
METHOD:PUBLISH
BEGIN:VEVENT
UID:69eb29e424de8@golfe-saint-tropez.com
DTSTAMP:20260424T082924Z
DTSTART:20260612T000000
DTEND:20260612T000000
SUMMARY:Sortie nature : Hibou petit-Duc
DESCRIPTION:Plongez dans l’univers mystérieux des rapaces nocturnes lors de cet événement nature incontournable dans le Golfe de Saint-Tropez ! Le […]\n\nPlus d'infos : https://golfe-saint-tropez.com/evenement/la-croix-valmer/sortie-nature-hibou-petit-duc/
LOCATION:Français\, Sortie nature : Hibou petit-Duc\, 83420 La Croix-Valmer
STATUS:CONFIRMED
SEQUENCE:0
END:VEVENT
END:VCALENDAR
